BEGIN:VCALENDAR
VERSION:2.0
PRODID:-//Die Schrittmacherin - ECPv6.15.20//NONSGML v1.0//EN
CALSCALE:GREGORIAN
METHOD:PUBLISH
X-ORIGINAL-URL:https://dieschrittmacherin.ch
X-WR-CALDESC:Veranstaltungen für Die Schrittmacherin
REFRESH-INTERVAL;VALUE=DURATION:PT1H
X-Robots-Tag:noindex
X-PUBLISHED-TTL:PT1H
BEGIN:VTIMEZONE
TZID:Europe/Berlin
BEGIN:DAYLIGHT
TZOFFSETFROM:+0100
TZOFFSETTO:+0200
TZNAME:CEST
DTSTART:20220327T010000
END:DAYLIGHT
BEGIN:STANDARD
TZOFFSETFROM:+0200
TZOFFSETTO:+0100
TZNAME:CET
DTSTART:20221030T010000
END:STANDARD
BEGIN:DAYLIGHT
TZOFFSETFROM:+0100
TZOFFSETTO:+0200
TZNAME:CEST
DTSTART:20230326T010000
END:DAYLIGHT
BEGIN:STANDARD
TZOFFSETFROM:+0200
TZOFFSETTO:+0100
TZNAME:CET
DTSTART:20231029T010000
END:STANDARD
BEGIN:DAYLIGHT
TZOFFSETFROM:+0100
TZOFFSETTO:+0200
TZNAME:CEST
DTSTART:20240331T010000
END:DAYLIGHT
BEGIN:STANDARD
TZOFFSETFROM:+0200
TZOFFSETTO:+0100
TZNAME:CET
DTSTART:20241027T010000
END:STANDARD
BEGIN:DAYLIGHT
TZOFFSETFROM:+0100
TZOFFSETTO:+0200
TZNAME:CEST
DTSTART:20250330T010000
END:DAYLIGHT
BEGIN:STANDARD
TZOFFSETFROM:+0200
TZOFFSETTO:+0100
TZNAME:CET
DTSTART:20251026T010000
END:STANDARD
BEGIN:DAYLIGHT
TZOFFSETFROM:+0100
TZOFFSETTO:+0200
TZNAME:CEST
DTSTART:20260329T010000
END:DAYLIGHT
BEGIN:STANDARD
TZOFFSETFROM:+0200
TZOFFSETTO:+0100
TZNAME:CET
DTSTART:20261025T010000
END:STANDARD
END:VTIMEZONE
BEGIN:VEVENT
DTSTART;TZID=Europe/Berlin:20250308T000000
DTEND;TZID=Europe/Berlin:20250308T235959
DTSTAMP:20260422T024447
CREATED:20241127T153647Z
LAST-MODIFIED:20250120T181625Z
UID:1521-1741392000-1741478399@dieschrittmacherin.ch
SUMMARY:Biographische Aufstellungen mit Anne Petersen
DESCRIPTION:Lebensintegrationsprozess nach Dr. Wilfried Nelles \n\n\n\n\n\n\n\n \n\n\n\n\nWir werden eingetaucht und mit den Wassern der Sinnflut gewaschen – wir werden durchnäßt bis auf die Herzhaut… \n\n\n\n\nHilde Domin \n\n\n\nDiese Zeile aus einem Hilde Domin Gedicht beschreibt\, wie wir uns fühlen in Zeiten\, die wir als Krisen erleben: gefangen\, bewegungsunfähig oder ins Bodenlose fallend\, ohne sicheren Halt. Nichts scheint mehr richtig. Und es stimmt: Etwas ist nicht mehr richtig. Etwas hat sich gewandelt. Tief im Innern wissen wir um diese Veränderung.Und doch verkrampfen wir im Versuch\, das Leben\, wie es sich in uns entfalten will zu steuern\, zu kontrollieren. Ein Blick in unsere Biographie reicht\, um die Aussichtslosigkeit dieses Unterfangens zu sehen. Die schönsten Momente unseres Lebens sind jene\, in denen wir dem Leben gefolgt sind\, ohne jede Einschränkung\, in voller Hingabe. Wir haben alles was wir brauchen\, um das tun zu können. Sich dessen bewusst zu werden\, der eigenen innere Fülle\, ist das Herz meiner Arbeit. \n\n\n\nRaum\, \n\n\n\n\ndie eigene Biographie anzuerkennen und zu sich zu nehmen.\n\n\n\ndie Ressourcen\, die unsere Biographie birgt\, zu sehen und sie zu nutzen.\n\n\n\ndas eigene Potenzial kennen zu lernen und zu leben.\n\n\n\nin das eigene Leben hineinzuwachsen.\n\n\n\nFrieden mit dem was ist\, zu schließen.\n\n\n\neinen kontruktiven Umgang mit Krisen finden.\n\n\n\n\nBei der von Dr. Wilfried Nelles entwickelten Aufstellungsmethode LEBENSINTEGRATIONSPROZESS (LIP) steht der Mensch mit seinem Lebensweg im Fokus. Er ist insofern „richtig“ als das wir ihn bereits gegangen sind\, wir können nichts mehr verändern. Was wir tun können\, ist ihn anzunehmen als UNSEREN Weg\, als unseren ganz eigenen Ausdruck des Lebens. Gelingt dies\, können wir unsere ureigenen Impulse entdecken und sie fruchtbar machen für Zukünftiges. \n\n\n\n08. März von 10:00 Uhr bis 18:00 Uhr\, ca. zwei Stunden Mittagspause.Getränke und Snacks sind im Preis inbegriffen.
URL:https://dieschrittmacherin.ch/termin/biographische-aufstellungsarbeit-lip-mit-anne-petersen/
LOCATION:Göppingen\, Hirschstraße 24\, Göppingen\, Baden-Württemberg\, 73035
CATEGORIES:Seminar
ATTACH;FMTTYPE=image/jpeg:https://dieschrittmacherin.ch/wp-content/uploads/2025/02/HipstamaticPhoto-674413261.884239-1-scaled.jpg
END:VEVENT
BEGIN:VEVENT
DTSTART;TZID=Europe/Berlin:20240322T100000
DTEND;TZID=Europe/Berlin:20240324T180000
DTSTAMP:20260422T024447
CREATED:20240116T190257Z
LAST-MODIFIED:20240116T192709Z
UID:1458-1711101600-1711303200@dieschrittmacherin.ch
SUMMARY:Weiberkram - Auf den Spuren der Weiblichkeit
DESCRIPTION:3-Tagsseminar mit Bettina Schneebeli und Anne Petersen in Goldau\, Schweiz \n\n\n\n\n\n\n\nFast alle Frauen kennen die Fragen: Was ist Weiblichkeit? Lebe ich sie in ihrer Fülle? Bin ich eine „richtige“ Frau? Wir sind verunsichert\, fühlen uns allein\, unverbunden. Dabei stehen wir mit unserem Leben\, unseren Erfahrungen in einer Reihe von Frauen\, angefangen mit unseren Müttern. Wir sind nicht allein. Wir sind verbunden mit ihnen. Um diese weibliche Verbindung zu fühlen\, braucht es andere Frauen\, mit denen wir gemeinsam auf die Suche gehen. Das ist eine Hinwendung zu uns\, aus der heraus wir kraftvoll wieder in die Begegnung mit dem Gegenüber treten können. \n\n\n\nWas Dich erwartet\n\n\n\nWir wollen erkunden\, was uns als Frauen ganz tief mit uns selbst und miteinander verbindet. Ich bin vom Stamme der Frauen! Diesen Satz zu spüren und mit Leben erfüllen\, das wollen wir an diesem Wochenende mit Euch wagen. \n\n\n\n\nWelchen Einfluss hat unsere Herkunft (familiär\, kulturell und geographisch) auf unser Frausein?\n\n\n\nWie erfahren wir uns in unseren Körpern?\n\n\n\nWas verbindet uns mit anderen Frauen und was trennt uns von ihnen?\n\n\n\n\nWir öffnen den Raum für individuelle Anliegen und Fragen mit Impulsvorträge\, Aufstellungen\, Stille Praxis\, Körperübungen\, Diadenübungen. \n\n\n\n\n\nSeminarflyer PDF zum Download: Weiberkram
URL:https://dieschrittmacherin.ch/termin/weiberkram-auf-den-spuren-der-weiblichkeit/
LOCATION:pavillion goldau\, Gotthartstraße 68\, Goldau\, 6410\, Schweiz
CATEGORIES:Seminar
ATTACH;FMTTYPE=image/svg+xml:https://dieschrittmacherin.ch/wp-content/uploads/2023/12/Face7.svg
END:VEVENT
BEGIN:VEVENT
DTSTART;TZID=Europe/Berlin:20240103T000000
DTEND;TZID=Europe/Berlin:20240107T235959
DTSTAMP:20260422T024447
CREATED:20230717T152339Z
LAST-MODIFIED:20231214T094925Z
UID:804-1704240000-1704671999@dieschrittmacherin.ch
SUMMARY:Versöhnung oder Die Liebe zum Leben anstiften
DESCRIPTION:mit Katharina Wendt und Anne Petersen \n\n\n\n\n\n\n\nFinde Versöhnung mit deinem Lebensweg\, erkenne dein Potenzial\, schließe Frieden mit Dir und stärke die Liebe zum Leben. Erlaub Dir Gelassenheit und Selbstbewusstsein. \n\n\n\n\nEs geht darum\, Freundschaft mit der Person zu schließen\, die wir schon sind. \nPema Chödrön\n\n\n\nVersöhnung oder Die Liebe zum Leben anstiften\n\n\n\nWir leben in unversöhnlichen Zeiten. Das Weltgeschehen und auch unsere individuellen Leben stellen uns vor Herausforderungen\, die uns an den Rand der Überforderung bringen\, und auch manchmal darüber hinaus.\nVerwirrung und Angst\, Sorgen und gleichzeitig Hoffnung\, – was trägt Dich\, welche Begegnungen machen Dir Mut? Was hat das vergangene Jahr gebracht\, was war dabei?\nWir möchten mit Dir und Euch diese Fragen in den Kontext der eigenen Biographie stellen und schauen\, wie Versöhnung mit dem eigenen Weg und dem was noch lose am Rande liegt\, möglich ist.\nGemeinsam mit Dir blicken wir auf das vergangene Jahr\, mit all seinen schönen\, aber auch schmerzvollen und herausfordernden Momenten und dem Wissen:\nDas ist mein Leben\, mit allem was mich ausmacht.\nEs geht darum\, einen versöhnlichen Zugang und Umgang mit dem zu finden\, wer wir sind\, und so mehr in den Kontakt mit uns selber und dem Gegenüber zu kommen. Dabei führt der Zugang zu unserer Weiblichkeit oder Männlichkeit uns auf die Spur einer unserer zentralen Kraftquelle.\nSchon ein paar Schritte hin zu anstatt weg von ist\, was wir und die Welt gut brauchen könnten. Mit diesem Seminar laden wir Dich ein\, an vier Tagen mit Aufstellungsarbeit\, Gesprächen\, Stille und Körperübungen\, eben diese Schritte zu tun\, uns auf den Weg zu unserer inneren Heimat zu machen.\nWagen wir einen Blick der Liebe und Zuversicht auf das vergangene und das kommende Jahr.\nWir geben Raum um: \n\n\n\n\nauf den eigenen Lebensweg\, von der Zeugung bis zur Gegenwart zu schauen\n\n\n\ndie persönliche Biographie anzuerkennen und zu sich zu nehmen.\n\n\n\ndie Ressourcen\, die unsere Geschichte birgt\, zu sehen und sie zu nutzen.\n\n\n\ndas individuelle Potenzial kennen zu lernen und zu leben.\n\n\n\nin das eigene Leben hineinzuwachsen und mit ihm Frieden zu schließen\n\n\n\nzu erfahren\, wie Gelassenheit und Selbstbewusstsein sich einstellen\, wenn wir unserem Sein zustimmen.\n\n\n\n\nPDF zum Download: Versöhnung
URL:https://dieschrittmacherin.ch/termin/versoehnung-oder-die-liebe-zum-leben-anstiften/
LOCATION:Göppingen\, Hirschstraße 24\, Göppingen\, Baden-Württemberg\, 73035
CATEGORIES:Seminar
ATTACH;FMTTYPE=image/svg+xml:https://dieschrittmacherin.ch/wp-content/uploads/2023/07/line-hands-svg.svg.svg
ORGANIZER;CN="Die Schrittmacherin":MAILTO:a.petersen@dieschrittmacherin.de
END:VEVENT
BEGIN:VEVENT
DTSTART;TZID=Europe/Berlin:20231014T100000
DTEND;TZID=Europe/Berlin:20231015T100000
DTSTAMP:20260422T024447
CREATED:20230717T182729Z
LAST-MODIFIED:20230923T151246Z
UID:874-1697277600-1697364000@dieschrittmacherin.ch
SUMMARY:"Durchnässt bis auf die Herzhaut ..." vom Umgang mit Krisen
DESCRIPTION:Aufstellungen mit Anne Petersen\n\n\n\nLebensintegrationsprozess nach Dr. Wilfried Nelles \n\n\n\nMit Aufstellungsarbeit auf den eigenen Lebensweg schauen\, um in Frieden mit der Biographie zu kommen und die darin liegenden Ressourcen und Potenziale für die Bewältigung von Krisen nutzen können. \n\n\n\n\nWir werden eingetaucht und mit den Wassern der Sinnflut gewaschen – wir werden durchnäßt bis auf die Herzhaut… \nHilde Domin\n\n\n\nDiese Zeile aus einem Hilde Domin Gedicht beschreibt\, wie wir uns fühlen in Zeiten\, die wir als Krisen erleben: gefangen\, bewegungsunfähig oder ins Bodenlose fallend\, ohne sicheren Halt. \n\n\n\nNichts scheint mehr richtig. Und es stimmt: Etwas ist nicht mehr richtig. Etwas hat sich gewandelt. Tief im Innern wissen wir um diese Veränderung. \n\n\n\nUnd doch verkrampfen wir im Versuch\, das Leben\, wie es sich in uns entfalten will zu steuern\, zu kontrollieren. Ein Blick in unsere Biographie reicht\, um die Aussichtslosigkeit dieses Unterfangens zu sehen. Die schönsten Momente unseres Lebens sind jene\, in denen wir dem Leben gefolgt sind\, ohne jede Einschränkung\, in voller Hingabe. \n\n\n\nWir haben alles was wir brauchen\, um das tun zu können. Sich dessen bewusst zu werden\, der eigenen innere Fülle\, ist das Herz meiner Arbeit. \n\n\n\nRaum\, \n\n\n\n\ndie eigene Biographie anzuerkennen und zu sich zu nehmen.\n\n\n\ndie Ressourcen\, die unsere Biographie birgt\, zu sehen und sie zu nutzen.\n\n\n\ndas eigene Potenzial kennen zu lernen und zu leben.\n\n\n\nin das eigene Leben hineinzuwachsen.\n\n\n\nFrieden mit dem was ist\, zu schließen.\n\n\n\neinen kontruktiven Umgang mit Krisen finden.\n\n\n\n\nBei der von Dr. Wilfried Nelles entwickelten Aufstellungsmethode LEBENSINTEGRATIONSPROZESS (LIP) steht der Mensch mit seinem Lebensweg im Fokus. Er ist insofern „richtig“ als das wir ihn bereits gegangen sind\, wir können nichts mehr verändern. Was wir tun können\, ist ihn anzunehmen als UNSEREN Weg\, als unseren ganz eigenen Ausdruck des Lebens. Gelingt dies\, können wir unsere ureigenen Impulse entdecken und sie fruchtbar machen für Zukünftiges.
URL:https://dieschrittmacherin.ch/termin/durchnaesst-bis-auf-die-herzhaut-vom-umgang-mit-krisen/
LOCATION:Göppingen\, Hirschstraße 24\, Göppingen\, Baden-Württemberg\, 73035
CATEGORIES:Seminar
ATTACH;FMTTYPE=image/svg+xml:https://dieschrittmacherin.ch/wp-content/uploads/2023/07/line-heart-svg.svg
ORGANIZER;CN="Die Schrittmacherin":MAILTO:a.petersen@dieschrittmacherin.de
END:VEVENT
BEGIN:VEVENT
DTSTART;TZID=Europe/Berlin:20230927T190000
DTEND;TZID=Europe/Berlin:20230927T210000
DTSTAMP:20260422T024447
CREATED:20230907T012626Z
LAST-MODIFIED:20230926T175203Z
UID:1115-1695841200-1695848400@dieschrittmacherin.ch
SUMMARY:Heimat ist ein Ort in Dir
DESCRIPTION:Abendvortrag mit Anne Petersen \n\n\n\n\n\n\n\nHeimat ist ein Ort in Dir\n\n\n\nHeimat ist ein Ort in mir und hat viel damit zu tun\, im Frieden zusein\, mit dem\, was ist\, mit dem\, wer ich bin und wo ich herkomme.Wenn wir uns verloren fühlen\, wenn wir das Gefühl vonHeimatverlust haben\, dann hat das oft damit zu tun\, dass wir unswünschen\, anderes zu sein\, ein anderes Alter zu haben. Vielleichteine andere Herkunft. Vielleicht sogar ein anderes Geschlecht. Abernichts von dem können wir uns aussuchen. Wir sind die\, die wir sind.Das Leben hat uns so wie wir sind\, gewollt und hat uns so in sichhineingestellt. Das Einzige\, was wir tun können\, ist das zu uns zunehmen. Ja zu sagen zu diesem\, unserem Leben.
URL:https://dieschrittmacherin.ch/termin/heimat-ist-ein-ort-in-dir/
LOCATION:pavillon goldau\, Gotthardstrasse 68\, Goldau\, 6410\, Schweiz
ATTACH;FMTTYPE=image/svg+xml:https://dieschrittmacherin.ch/wp-content/uploads/2023/09/village10-1-1.svg
ORGANIZER;CN="Nelles Institut Schweiz":MAILTO:info@nellesinstitut.ch
END:VEVENT
END:VCALENDAR